BEGIN:VCALENDAR
VERSION:2.0
PRODID:-//Contratero//ES
CALSCALE:GREGORIAN
METHOD:PUBLISH
BEGIN:VEVENT
UID:TUR 2025/6@contratero.es
DTSTAMP:20260419T175658Z
DTSTART:20250623T235959
DTEND:20250624T005959
SUMMARY:Cierre: Asistencia técnica para la realización de los serv
DESCRIPTION:Asistencia técnica para la realización de los servicios de mantenimiento\, posicionamiento SEO\, servidor y dominio de la web del Palacio de Congresos y Exposiciones de Castilla y León en Salamanca.\\n\\nOrganismo: Consejo de Administración de Turismo\, Comercio y Promoción Económica de Salamanca\, S.A.U.\\n\\nVer en Contratero: https://contratero.es/contracts/TUR 2025/6
URL:https://contratero.es/contracts/TUR 2025/6
STATUS:CONFIRMED
BEGIN:VALARM
TRIGGER:-P1D
ACTION:DISPLAY
DESCRIPTION:Recordatorio: Asistencia técnica para la rea
END:VALARM
END:VEVENT
END:VCALENDAR